BEGIN:VCALENDAR
VERSION:2.0
PRODID:-//Center for Comprehensive School Mental Health - ECPv6.7.0//NONSGML v1.0//EN
CALSCALE:GREGORIAN
METHOD:PUBLISH
X-WR-CALNAME:Center for Comprehensive School Mental Health
X-ORIGINAL-URL:https://ccsmh.rutgers.edu
X-WR-CALDESC:Events for Center for Comprehensive School Mental Health
REFRESH-INTERVAL;VALUE=DURATION:PT1H
X-Robots-Tag:noindex
X-PUBLISHED-TTL:PT1H
BEGIN:VTIMEZONE
TZID:UTC
BEGIN:STANDARD
TZOFFSETFROM:+0000
TZOFFSETTO:+0000
TZNAME:UTC
DTSTART:20230101T000000
END:STANDARD
END:VTIMEZONE
BEGIN:VEVENT
DTSTART;TZID=UTC:20231206T090000
DTEND;TZID=UTC:20231206T120000
DTSTAMP:20260420T120045
CREATED:20230314T172123Z
LAST-MODIFIED:20230314T172442Z
UID:760-1701853200-1701864000@ccsmh.rutgers.edu
SUMMARY:Functional Contextual Thinking and Its Application for School Mental Health  - Virtual
DESCRIPTION:This training will provide an overview of Functional Contextual Thinking (FCT) for school mental health professionals\, teachers\, and other school staff. It will include addressing school-related internalizing (e.g.\, anxiety\, trauma) and externalizing (e.g.\, disruptions\, aggression) problems by selecting effective strategies and supports for students. FCT is a user-friendly\, brief\, and informal method designed to quickly help school professionals hypothesize the function of the student’s behavior as part of their regular practice. School professionals will be able to respond to challenging behaviors based on the scientific understanding of behavior rather than pre-existing assumptions that will lead to better outcomes for students.   \nRegister Here
URL:https://ccsmh.rutgers.edu/event/functional-contextual-thinking-and-its-application-for-school-mental-health-3/
LOCATION:Virtual Event – Zoom
CATEGORIES:Statewide
END:VEVENT
END:VCALENDAR