BEGIN:VCALENDAR
VERSION:2.0
PRODID:-//Center for Comprehensive School Mental Health - ECPv6.7.0//NONSGML v1.0//EN
CALSCALE:GREGORIAN
METHOD:PUBLISH
X-WR-CALNAME:Center for Comprehensive School Mental Health
X-ORIGINAL-URL:https://ccsmh.rutgers.edu
X-WR-CALDESC:Events for Center for Comprehensive School Mental Health
REFRESH-INTERVAL;VALUE=DURATION:PT1H
X-Robots-Tag:noindex
X-PUBLISHED-TTL:PT1H
BEGIN:VTIMEZONE
TZID:UTC
BEGIN:STANDARD
TZOFFSETFROM:+0000
TZOFFSETTO:+0000
TZNAME:UTC
DTSTART:20230101T000000
END:STANDARD
END:VTIMEZONE
BEGIN:VEVENT
DTSTART;TZID=UTC:20230517T093000
DTEND;TZID=UTC:20230517T123000
DTSTAMP:20260420T040327
CREATED:20230314T173820Z
LAST-MODIFIED:20230314T180054Z
UID:764-1684315800-1684326600@ccsmh.rutgers.edu
SUMMARY:Establishing Community Partnerships and Engaging Families in School-Based Mental Health 
DESCRIPTION:The goal of engaging families and community partners in school-based mental health training is to create healthy environments for learning by partnering with whole school communities in developing prevention and intervention strategies that promote academic and life success for all of the students.   \nParticipants will be able to understand the importance of family and community partner engagement\, initiate the resource mapping process within the school community\, engage or strengthen relationships with new and existing community partners\, and approach all programming partnerships with a culturally sensitive trauma-informed lens.  \nRegister Here
URL:https://ccsmh.rutgers.edu/event/establishing-community-partnerships-and-engaging-families-in-school-based-mental-health/
LOCATION:Room 110\, Madison Hall\, Blackwood Campus\, Camden County Community College\, Camden\, NJ\, United States
CATEGORIES:Statewide
END:VEVENT
END:VCALENDAR